Workbook

Sheet Start here
B2: FuelTax Friend: IFTA miles and fuel worksheet (SAMPLE)
B3: Quarter: 3rd quarter 2026 (1 Jul to 30 Sep 2026). Rates: official IFTA tax rate matrix, 3Q2026.
B5: SAMPLE: made-up carrier and made-up trips, to show what you get. Not a real filing.
B6: 1. Trip log: one line per state per trip. Write the state code (TX, OK...) and the miles you drove in it.
B7: 2. Fuel log: one line per fuel receipt. Write the state where you bought it and the gallons.
B8: 3. Worksheet: it adds everything up by state, works out your miles per gallon, and shows tax owed or credit per state.
B10: Pick your fuel type in the Worksheet tab (cell C4). Blue cells are yours to type in. Everything else adds itself up.
B12: Important
B13: We are not tax preparers and we do not file for you. This worksheet helps you fill in your own IFTA return.
B14: You file it yourself with your base state (most states have an online IFTA portal). Check every number before you file.
B15: Your base state may round differently or have extra rules (toll roads, surcharges, footnotes). Its return form wins.
B17: Deadline
... B24: Rates with a # note on the official matrix have footnotes there. Oregon shows 0 for diesel: Oregon uses its own weight-mile tax for big trucks.

Sheet Trip log
A1: Date | B1: Truck / unit | C1: State code | D1: Miles driven | E1: Of which non-taxable miles (optional) | F1: Trip / note | H1: SAMPLE: made-up data
A2: 46205 | B2: T1 | C2: TX | D2: 612 | F2: SAMPLE trip
A3: 46206 | B3: T1 | C3: OK | D3: 238 | F3: SAMPLE trip
A4: 46206 | B4: T1 | C4: KS | D4: 412 | F4: SAMPLE trip
A5: 46207 | B5: T1 | C5: MO | D5: 301 | F5: SAMPLE trip
A6: 46209 | B6: T1 | C6: IL | D6: 187 | F6: SAMPLE trip
A7: 46211 | B7: T1 | C7: MO | D7: 290 | F7: SAMPLE trip
A8: 46212 | B8: T1 | C8: OK | D8: 255 | F8: SAMPLE trip
A9: 46213 | B9: T1 | C9: TX | D9: 540 | F9: SAMPLE trip
A10: 46223 | B10: T1 | C10: TX | D10: 388 | F10: SAMPLE trip
A11: 46224 | B11: T1 | C11: LA | D11: 301 | F11: SAMPLE trip
A12: 46225 | B12: T1 | C12: MS | D12: 178 | F12: SAMPLE trip
A13: 46225 | B13: T1 | C13: AL | D13: 214 | F13: SAMPLE trip
... A29: 46280 | B29: T1 | C29: TX | D29: 470 | F29: SAMPLE trip

Sheet Fuel log
A1: Date | B1: Truck / unit | C1: State code | D1: Gallons | E1: Total paid $ | F1: Seller / truck stop | G1: Receipt # | H1: SAMPLE: made-up data
A2: 46205 | B2: T1 | C2: TX | D2: 142.6 | E2: 512.11 | F2: Truck stop, Amarillo | G2: R-1001
A3: 46207 | B3: T1 | C3: MO | D3: 151.2 | E3: 557.92 | F3: Truck stop, Joplin | G3: R-1002
A4: 46212 | B4: T1 | C4: OK | D4: 138.9 | E4: 489.34 | F4: Truck stop, OKC | G4: R-1003
A5: 46224 | B5: T1 | C5: LA | D5: 120.4 | E5: 431.03 | F5: Truck stop, Shreveport | G5: R-1004
A6: 46226 | B6: T1 | C6: GA | D6: 110 | E6: 420.2 | F6: Truck stop, Atlanta | G6: R-1005
A7: 46232 | B7: T1 | C7: TX | D7: 149.8 | E7: 535.79 | F7: Truck stop, Houston | G7: R-1006
A8: 46245 | B8: T1 | C8: NM | D8: 131.5 | E8: 488.17 | F8: Truck stop, Tucumcari | G8: R-1007
A9: 46251 | B9: T1 | C9: AZ | D9: 140.2 | E9: 551.31 | F9: Truck stop, Phoenix | G9: R-1008
A10: 46253 | B10: T1 | C10: TX | D10: 121.7 | E10: 436.9 | F10: Truck stop, El Paso | G10: R-1009
A11: 46274 | B11: T1 | C11: AR | D11: 128.3 | E11: 459.31 | F11: Truck stop, Little Rock | G11: R-1010
A12: 46280 | B12: T1 | C12: TX | D12: 138.1 | E12: 494.4 | F12: Truck stop, Dallas | G12: R-1011

Sheet Worksheet
B2: Your IFTA worksheet, Q3 2026 (SAMPLE)
B4: Fuel type | C4: Diesel
B5: Total miles (all states) | C5: =SUM('Trip log'!D2:D401)
B6: Total gallons bought | C6: =SUM('Fuel log'!D2:D401)
B7: Miles per gallon (fleet, 2 decimals) | C7: =IF(C6>0,ROUND(C5/C6,2),0)
B8: Total tax due (credit) | C8: =L71
B9: Lines with a state code that is not on the IFTA list | C9: =SUMPRODUCT(('Trip log'!C2:C401<>"")*(COUNTIF('Rates 3Q2026'!B2:B59,'Trip log'!C2:C401)=0))+SUMPRODUCT(('Fuel log'!C2:C401<>"")*(COUNTIF('Rates 3Q2026'!B2:B59,'Fuel log'!C2:C401)=0))
B12: State | C12: Code | D12: Total miles | E12: Taxable miles | F12: Taxable gallons | G12: Tax-paid gallons | H12: Net taxable gallons | I12: Tax rate $/gal | J12: Tax due (credit) $ | K12: Surcharge $ | L12: Total due (credit) $
B13: ='Rates 3Q2026'!A2 | C13: ='Rates 3Q2026'!B2 | D13: =SUMIF('Trip log'!$C$2:$C$401,C13,'Trip log'!$D$2:$D$401) | E13: =D13-SUMIF('Trip log'!$C$2:$C$401,C13,'Trip log'!$E$2:$E$401) | F13: =IF($C$7>0,ROUND(E13/$C$7,0),0) | G13: =ROUND(SUMIF('Fuel log'!$C$2:$C$401,C13,'Fuel log'!$D$2:$D$401),0) | H13: =F13-G13 | I13: =IF($C$4="Gasoline",'Rates 3Q2026'!D2,'Rates 3Q2026'!C2) | J13: =ROUND(H13*I13,2) | K13: =ROUND(F13*IF($C$4="Gasoline",'Rates 3Q2026'!F2,'Rates 3Q2026'!E2),2) | L13: =J13+K13
B14: ='Rates 3Q2026'!A3 | C14: ='Rates 3Q2026'!B3 | D14: =SUMIF('Trip log'!$C$2:$C$401,C14,'Trip log'!$D$2:$D$401) | E14: =D14-SUMIF('Trip log'!$C$2:$C$401,C14,'Trip log'!$E$2:$E$401) | F14: =IF($C$7>0,ROUND(E14/$C$7,0),0) | G14: =ROUND(SUMIF('Fuel log'!$C$2:$C$401,C14,'Fuel log'!$D$2:$D$401),0) | H14: =F14-G14 | I14: =IF($C$4="Gasoline",'Rates 3Q2026'!D3,'Rates 3Q2026'!C3) | J14: =ROUND(H14*I14,2) | K14: =ROUND(F14*IF($C$4="Gasoline",'Rates 3Q2026'!F3,'Rates 3Q2026'!E3),2) | L14: =J14+K14
B15: ='Rates 3Q2026'!A4 | C15: ='Rates 3Q2026'!B4 | D15: =SUMIF('Trip log'!$C$2:$C$401,C15,'Trip log'!$D$2:$D$401) | E15: =D15-SUMIF('Trip log'!$C$2:$C$401,C15,'Trip log'!$E$2:$E$401) | F15: =IF($C$7>0,ROUND(E15/$C$7,0),0) | G15: =ROUND(SUMIF('Fuel log'!$C$2:$C$401,C15,'Fuel log'!$D$2:$D$401),0) | H15: =F15-G15 | I15: =IF($C$4="Gasoline",'Rates 3Q2026'!D4,'Rates 3Q2026'!C4) | J15: =ROUND(H15*I15,2) | K15: =ROUND(F15*IF($C$4="Gasoline",'Rates 3Q2026'!F4,'Rates 3Q2026'!E4),2) | L15: =J15+K15
B16: ='Rates 3Q2026'!A5 | C16: ='Rates 3Q2026'!B5 | D16: =SUMIF('Trip log'!$C$2:$C$401,C16,'Trip log'!$D$2:$D$401) | E16: =D16-SUMIF('Trip log'!$C$2:$C$401,C16,'Trip log'!$E$2:$E$401) | F16: =IF($C$7>0,ROUND(E16/$C$7,0),0) | G16: =ROUND(SUMIF('Fuel log'!$C$2:$C$401,C16,'Fuel log'!$D$2:$D$401),0) | H16: =F16-G16 | I16: =IF($C$4="Gasoline",'Rates 3Q2026'!D5,'Rates 3Q2026'!C5) | J16: =ROUND(H16*I16,2) | K16: =ROUND(F16*IF($C$4="Gasoline",'Rates 3Q2026'!F5,'Rates 3Q2026'!E5),2) | L16: =J16+K16
B17: ='Rates 3Q2026'!A6 | C17: ='Rates 3Q2026'!B6 | D17: =SUMIF('Trip log'!$C$2:$C$401,C17,'Trip log'!$D$2:$D$401) | E17: =D17-SUMIF('Trip log'!$C$2:$C$401,C17,'Trip log'!$E$2:$E$401) | F17: =IF($C$7>0,ROUND(E17/$C$7,0),0) | G17: =ROUND(SUMIF('Fuel log'!$C$2:$C$401,C17,'Fuel log'!$D$2:$D$401),0) | H17: =F17-G17 | I17: =IF($C$4="Gasoline",'Rates 3Q2026'!D6,'Rates 3Q2026'!C6) | J17: =ROUND(H17*I17,2) | K17: =ROUND(F17*IF($C$4="Gasoline",'Rates 3Q2026'!F6,'Rates 3Q2026'!E6),2) | L17: =J17+K17
B18: ='Rates 3Q2026'!A7 | C18: ='Rates 3Q2026'!B7 | D18: =SUMIF('Trip log'!$C$2:$C$401,C18,'Trip log'!$D$2:$D$401) | E18: =D18-SUMIF('Trip log'!$C$2:$C$401,C18,'Trip log'!$E$2:$E$401) | F18: =IF($C$7>0,ROUND(E18/$C$7,0),0) | G18: =ROUND(SUMIF('Fuel log'!$C$2:$C$401,C18,'Fuel log'!$D$2:$D$401),0) | H18: =F18-G18 | I18: =IF($C$4="Gasoline",'Rates 3Q2026'!D7,'Rates 3Q2026'!C7) | J18: =ROUND(H18*I18,2) | K18: =ROUND(F18*IF($C$4="Gasoline",'Rates 3Q2026'!F7,'Rates 3Q2026'!E7),2) | L18: =J18+K18
B19: ='Rates 3Q2026'!A8 | C19: ='Rates 3Q2026'!B8 | D19: =SUMIF('Trip log'!$C$2:$C$401,C19,'Trip log'!$D$2:$D$401) | E19: =D19-SUMIF('Trip log'!$C$2:$C$401,C19,'Trip log'!$E$2:$E$401) | F19: =IF($C$7>0,ROUND(E19/$C$7,0),0) | G19: =ROUND(SUMIF('Fuel log'!$C$2:$C$401,C19,'Fuel log'!$D$2:$D$401),0) | H19: =F19-G19 | I19: =IF($C$4="Gasoline",'Rates 3Q2026'!D8,'Rates 3Q2026'!C8) | J19: =ROUND(H19*I19,2) | K19: =ROUND(F19*IF($C$4="Gasoline",'Rates 3Q2026'!F8,'Rates 3Q2026'!E8),2) | L19: =J19+K19
B20: ='Rates 3Q2026'!A9 | C20: ='Rates 3Q2026'!B9 | D20: =SUMIF('Trip log'!$C$2:$C$401,C20,'Trip log'!$D$2:$D$401) | E20: =D20-SUMIF('Trip log'!$C$2:$C$401,C20,'Trip log'!$E$2:$E$401) | F20: =IF($C$7>0,ROUND(E20/$C$7,0),0) | G20: =ROUND(SUMIF('Fuel log'!$C$2:$C$401,C20,'Fuel log'!$D$2:$D$401),0) | H20: =F20-G20 | I20: =IF($C$4="Gasoline",'Rates 3Q2026'!D9,'Rates 3Q2026'!C9) | J20: =ROUND(H20*I20,2) | K20: =ROUND(F20*IF($C$4="Gasoline",'Rates 3Q2026'!F9,'Rates 3Q2026'!E9),2) | L20: =J20+K20
B21: ='Rates 3Q2026'!A10 | C21: ='Rates 3Q2026'!B10 | D21: =SUMIF('Trip log'!$C$2:$C$401,C21,'Trip log'!$D$2:$D$401) | E21: =D21-SUMIF('Trip log'!$C$2:$C$401,C21,'Trip log'!$E$2:$E$401) | F21: =IF($C$7>0,ROUND(E21/$C$7,0),0) | G21: =ROUND(SUMIF('Fuel log'!$C$2:$C$401,C21,'Fuel log'!$D$2:$D$401),0) | H21: =F21-G21 | I21: =IF($C$4="Gasoline",'Rates 3Q2026'!D10,'Rates 3Q2026'!C10) | J21: =ROUND(H21*I21,2) | K21: =ROUND(F21*IF($C$4="Gasoline",'Rates 3Q2026'!F10,'Rates 3Q2026'!E10),2) | L21: =J21+K21
B22: ='Rates 3Q2026'!A11 | C22: ='Rates 3Q2026'!B11 | D22: =SUMIF('Trip log'!$C$2:$C$401,C22,'Trip log'!$D$2:$D$401) | E22: =D22-SUMIF('Trip log'!$C$2:$C$401,C22,'Trip log'!$E$2:$E$401) | F22: =IF($C$7>0,ROUND(E22/$C$7,0),0) | G22: =ROUND(SUMIF('Fuel log'!$C$2:$C$401,C22,'Fuel log'!$D$2:$D$401),0) | H22: =F22-G22 | I22: =IF($C$4="Gasoline",'Rates 3Q2026'!D11,'Rates 3Q2026'!C11) | J22: =ROUND(H22*I22,2) | K22: =ROUND(F22*IF($C$4="Gasoline",'Rates 3Q2026'!F11,'Rates 3Q2026'!E11),2) | L22: =J22+K22
B23: ='Rates 3Q2026'!A12 | C23: ='Rates 3Q2026'!B12 | D23: =SUMIF('Trip log'!$C$2:$C$401,C23,'Trip log'!$D$2:$D$401) | E23: =D23-SUMIF('Trip log'!$C$2:$C$401,C23,'Trip log'!$E$2:$E$401) | F23: =IF($C$7>0,ROUND(E23/$C$7,0),0) | G23: =ROUND(SUMIF('Fuel log'!$C$2:$C$401,C23,'Fuel log'!$D$2:$D$401),0) | H23: =F23-G23 | I23: =IF($C$4="Gasoline",'Rates 3Q2026'!D12,'Rates 3Q2026'!C12) | J23: =ROUND(H23*I23,2) | K23: =ROUND(F23*IF($C$4="Gasoline",'Rates 3Q2026'!F12,'Rates 3Q2026'!E12),2) | L23: =J23+K23
B24: ='Rates 3Q2026'!A13 | C24: ='Rates 3Q2026'!B13 | D24: =SUMIF('Trip log'!$C$2:$C$401,C24,'Trip log'!$D$2:$D$401) | E24: =D24-SUMIF('Trip log'!$C$2:$C$401,C24,'Trip log'!$E$2:$E$401) | F24: =IF($C$7>0,ROUND(E24/$C$7,0),0) | G24: =ROUND(SUMIF('Fuel log'!$C$2:$C$401,C24,'Fuel log'!$D$2:$D$401),0) | H24: =F24-G24 | I24: =IF($C$4="Gasoline",'Rates 3Q2026'!D13,'Rates 3Q2026'!C13) | J24: =ROUND(H24*I24,2) | K24: =ROUND(F24*IF($C$4="Gasoline",'Rates 3Q2026'!F13,'Rates 3Q2026'!E13),2) | L24: =J24+K24
... B70: ='Rates 3Q2026'!A59 | C70: ='Rates 3Q2026'!B59 | D70: =SUMIF('Trip log'!$C$2:$C$401,C70,'Trip log'!$D$2:$D$401) | E70: =D70-SUMIF('Trip log'!$C$2:$C$401,C70,'Trip log'!$E$2:$E$401) | F70: =IF($C$7>0,ROUND(E70/$C$7,0),0) | G70: =ROUND(SUMIF('Fuel log'!$C$2:$C$401,C70,'Fuel log'!$D$2:$D$401),0) | H70: =F70-G70 | I70: =IF($C$4="Gasoline",'Rates 3Q2026'!D59,'Rates 3Q2026'!C59) | J70: =ROUND(H70*I70,2) | K70: =ROUND(F70*IF($C$4="Gasoline",'Rates 3Q2026'!F59,'Rates 3Q2026'!E59),2) | L70: =J70+K70
B71: Total | D71: =SUM(D13:D70) | E71: =SUM(E13:E70) | F71: =SUM(F13:F70) | G71: =SUM(G13:G70) | H71: =SUM(H13:H70) | J71: =SUM(J13:J70) | K71: =SUM(K13:K70) | L71: =SUM(L13:L70)
B73: Rows with miles or fuel are shaded. Blank states drop to zero. Negative = credit. Surcharge (KY, VA) is on all taxable gallons, with no credit for fuel bought there; check your base state form.
B74: Not tax advice. We are not tax preparers and do not file for you. Check against your base state IFTA return before filing.

Sheet Rates 3Q2026
A1: Jurisdiction | B1: Code | C1: Diesel $/gal | D1: Gasoline $/gal | E1: Surcharge diesel $/gal | F1: Surcharge gasoline $/gal | G1: Matrix note
A2: Alabama | B2: AL | C2: 0.31 | D2: 0.3 | E2: 0 | F2: 0 | G2: #35
A3: Arizona | B3: AZ | C3: 0.26 | D3: 0.18 | E3: 0 | F3: 0 | G3: #7
A4: Arkansas | B4: AR | C4: 0.285 | D4: 0.247 | E4: 0 | F4: 0 | G4: #29
A5: California | B5: CA | C5: 0.979 | D5: 0 | E5: 0 | F5: 0 | G5: #1
A6: Colorado | B6: CO | C6: 0.335 | D6: 0.28 | E6: 0 | F6: 0
A7: Connecticut | B7: CT | C7: 0.499 | D7: 0.25 | E7: 0 | F7: 0 | G7: #15
A8: Delaware | B8: DE | C8: 0.22 | D8: 0.23 | E8: 0 | F8: 0 | G8: #36
A9: Florida | B9: FL | C9: 0.4097 | D9: 0.411 | E9: 0 | F9: 0 | G9: #18
A10: Georgia | B10: GA | C10: 0.373 | D10: 0.333 | E10: 0 | F10: 0 | G10: #30
A11: Idaho | B11: ID | C11: 0.32 | D11: 0 | E11: 0 | F11: 0 | G11: #6
A12: Illinois | B12: IL | C12: 0.738 | D12: 0.653 | E12: 0 | F12: 0 | G12: #26
A13: Indiana | B13: IN | C13: 0.63 | D13: 0 | E13: 0 | F13: 0 | G13: #31
A14: Iowa | B14: IA | C14: 0.325 | D14: 0.3 | E14: 0 | F14: 0 | G14: #25
A15: Kansas | B15: KS | C15: 0.26 | D15: 0.24 | E15: 0 | F15: 0
A16: Kentucky | B16: KY | C16: 0.22 | D16: 0.25 | E16: 0.105 | F16: 0.045
A17: Louisiana | B17: LA | C17: 0.2 | D17: 0.2 | E17: 0 | F17: 0 | G17: #21
A18: Maine | B18: ME | C18: 0.312 | D18: 0 | E18: 0 | F18: 0
A19: Maryland | B19: MD | C19: 0.4745 | D19: 0.466 | E19: 0 | F19: 0 | G19: #23
A20: Massachusetts | B20: MA | C20: 0.24 | D20: 0.24 | E20: 0 | F20: 0
A21: Michigan | B21: MI | C21: 0.524 | D21: 0.524 | E21: 0 | F21: 0
A22: Minnesota | B22: MN | C22: 0.326 | D22: 0.326 | E22: 0 | F22: 0 | G22: #16
A23: Mississippi | B23: MS | C23: 0.24 | D23: 0.24 | E23: 0 | F23: 0 | G23: #2
A24: Missouri | B24: MO | C24: 0.295 | D24: 0.295 | E24: 0 | F24: 0 | G24: #3
A25: Montana | B25: MT | C25: 0.2975 | D25: 0 | E25: 0 | F25: 0 | G25: #9
A26: Nebraska | B26: NE | C26: 0.318 | D26: 0.318 | E26: 0 | F26: 0
A27: Nevada | B27: NV | C27: 0.27 | D27: 0.23 | E27: 0 | F27: 0
A28: New Hampshire | B28: NH | C28: 0.222 | D28: 0 | E28: 0 | F28: 0
A29: New Jersey | B29: NJ | C29: 0.561 | D29: 0.491 | E29: 0 | F29: 0
A30: New Mexico | B30: NM | C30: 0.21 | D30: 0.12 | E30: 0 | F30: 0 | G30: #33
A31: New York | B31: NY | C31: 0.3805 | D31: 0.398 | E31: 0 | F31: 0 | G31: #11
A32: North Carolina | B32: NC | C32: 0.41 | D32: 0.41 | E32: 0 | F32: 0 | G32: #24
A33: North Dakota | B33: ND | C33: 0.23 | D33: 0.23 | E33: 0 | F33: 0
A34: Ohio | B34: OH | C34: 0.47 | D34: 0.385 | E34: 0 | F34: 0 | G34: #28
A35: Oklahoma | B35: OK | C35: 0.19 | D35: 0.19 | E35: 0 | F35: 0
A36: Oregon | B36: OR | C36: 0 | D36: 0 | E36: 0 | F36: 0
A37: Pennsylvania | B37: PA | C37: 0.741 | D37: 0.576 | E37: 0 | F37: 0 | G37: #4
A38: Rhode Island | B38: RI | C38: 0.4 | D38: 0.4 | E38: 0 | F38: 0 | G38: #34
A39: South Carolina | B39: SC | C39: 0.28 | D39: 0.28 | E39: 0 | F39: 0 | G39: #22
A40: South Dakota | B40: SD | C40: 0.28 | D40: 0.28 | E40: 0 | F40: 0
A41: Tennessee | B41: TN | C41: 0.27 | D41: 0.26 | E41: 0 | F41: 0 | G41: #8
A42: Texas | B42: TX | C42: 0.2 | D42: 0.2 | E42: 0 | F42: 0 | G42: #12
A43: Utah | B43: UT | C43: 0.379 | D43: 0.319 | E43: 0 | F43: 0 | G43: #20
A44: Vermont | B44: VT | C44: 0.31 | D44: 0 | E44: 0 | F44: 0
A45: Virginia | B45: VA | C45: 0.336 | D45: 0.326 | E45: 0.143 | F45: 0.153 | G45: #19
A46: Washington | B46: WA | C46: 0.595 | D46: 0.565 | E46: 0 | F46: 0 | G46: #10
A47: West Virginia | B47: WV | C47: 0.357 | D47: 0.357 | E47: 0 | F47: 0
A48: Wisconsin | B48: WI | C48: 0.329 | D48: 0.329 | E48: 0 | F48: 0
A49: Wyoming | B49: WY | C49: 0.24 | D49: 0.24 | E49: 0 | F49: 0 | G49: #32
A50: Alberta | B50: AB | C50: 0.3519 | D50: 0.3519 | E50: 0 | F50: 0 | G50: #14
A51: British Columbia | B51: BC | C51: 0.406 | D51: 0.3924 | E51: 0 | F51: 0 | G51: #13
A52: Manitoba | B52: MB | C52: 0.3383 | D52: 0.3383 | E52: 0 | F52: 0 | G52: #17
A53: New Brunswick | B53: NB | C53: 0.4182 | D53: 0.2942 | E53: 0 | F53: 0
A54: Newfoundland | B54: NL | C54: 0.2572 | D54: 0.203 | E54: 0 | F54: 0
A55: Nova Scotia | B55: NS | C55: 0.4168 | D55: 0.4196 | E55: 0 | F55: 0
A56: Ontario | B56: ON | C56: 0.2436 | D56: 0.2436 | E56: 0 | F56: 0 | G56: #5
A57: Prince Edward Island | B57: PE | C57: 0.383 | D57: 0.2293 | E57: 0 | F57: 0 | G57: #27
A58: Quebec | B58: QC | C58: 0.5468 | D58: 0.5197 | E58: 0 | F58: 0
A59: Saskatchewan | B59: SK | C59: 0.406 | D59: 0.406 | E59: 0 | F59: 0
A61: Source: IFTA, Inc. tax rate matrix 3Q2026, US rate per US gallon. https://www.iftach.org/taxmatrix/charts/3Q2026.csv
